BEGIN:VCALENDAR
VERSION:2.0
PRODID:-//jEvents 2.0 for Joomla//EN
CALSCALE:GREGORIAN
METHOD:PUBLISH
BEGIN:VEVENT
UID:0bd0cc232dc83e8cd0d87f7858c9c902
CATEGORIES:Training
CREATED:20211010T112213
SUMMARY:Schnuppertraining für Interessierte
DESCRIPTION:
CONTACT:Diese E-Mail-Adresse ist vor Spambots geschützt! Zur Anzeige muss JavaScript eingeschaltet sein!
				document.getElementById('cloak770c30eb8ecc2a02253489defc8f98c4').innerHTML = '';
				var prefix = '&#109;a' + 'i&#108;' + '&#116;o';
				var path = 'hr' + 'ef' + '=';
				var addy770c30eb8ecc2a02253489defc8f98c4 = '&#105;nf&#111;' + '&#64;';
				addy770c30eb8ecc2a02253489defc8f98c4 = addy770c30eb8ecc2a02253489defc8f98c4 + 'scbr&#101;&#97;k&#101;rs' + '&#46;' + 'd&#101;';
				var addy_text770c30eb8ecc2a02253489defc8f98c4 = '&#105;nf&#111;' + '&#64;' + 'scbr&#101;&#97;k&#101;rs' + '&#46;' + 'd&#101;';document.getElementById('cloak770c30eb8ecc2a02253489defc8f98c4').innerHTML += '<a ' + path + '\'' + prefix + ':' + addy770c30eb8ecc2a02253489defc8f98c4 + '\'>'+addy_text770c30eb8ecc2a02253489defc8f98c4+'';
		
DTSTAMP:20260425T122836Z
DTSTART:20250521T160000Z
DTEND:20250521T190000Z
SEQUENCE:0
TRANSP:OPAQUE
END:VEVENT
END:VCALENDAR