BEGIN:VCALENDAR
VERSION:2.0
PRODID:-//jEvents 2.0 for Joomla//EN
CALSCALE:GREGORIAN
METHOD:PUBLISH
BEGIN:VEVENT
UID:0bd0cc232dc83e8cd0d87f7858c9c902
CATEGORIES:Training
CREATED:20211010T112213
SUMMARY:Schnuppertraining für Interessierte
DESCRIPTION:
CONTACT:Diese E-Mail-Adresse ist vor Spambots geschützt! Zur Anzeige muss JavaScript eingeschaltet sein!
				document.getElementById('cloak491b7e1db0579ad5b428b46feb7e6aa0').innerHTML = '';
				var prefix = '&#109;a' + 'i&#108;' + '&#116;o';
				var path = 'hr' + 'ef' + '=';
				var addy491b7e1db0579ad5b428b46feb7e6aa0 = '&#105;nf&#111;' + '&#64;';
				addy491b7e1db0579ad5b428b46feb7e6aa0 = addy491b7e1db0579ad5b428b46feb7e6aa0 + 'scbr&#101;&#97;k&#101;rs' + '&#46;' + 'd&#101;';
				var addy_text491b7e1db0579ad5b428b46feb7e6aa0 = '&#105;nf&#111;' + '&#64;' + 'scbr&#101;&#97;k&#101;rs' + '&#46;' + 'd&#101;';document.getElementById('cloak491b7e1db0579ad5b428b46feb7e6aa0').innerHTML += '<a ' + path + '\'' + prefix + ':' + addy491b7e1db0579ad5b428b46feb7e6aa0 + '\'>'+addy_text491b7e1db0579ad5b428b46feb7e6aa0+'';
		
DTSTAMP:20260423T181711Z
DTSTART:20250205T170000Z
DTEND:20250205T200000Z
SEQUENCE:0
TRANSP:OPAQUE
END:VEVENT
END:VCALENDAR