BEGIN:VCALENDAR
VERSION:2.0
PRODID:-//jEvents 2.0 for Joomla//EN
CALSCALE:GREGORIAN
METHOD:PUBLISH
BEGIN:VEVENT
UID:0bd0cc232dc83e8cd0d87f7858c9c902
CATEGORIES:Training
CREATED:20211010T112213
SUMMARY:Schnuppertraining für Interessierte
DESCRIPTION:
CONTACT:Diese E-Mail-Adresse ist vor Spambots geschützt! Zur Anzeige muss JavaScript eingeschaltet sein!
				document.getElementById('cloak89964e11d315f8df5c11a70c7ce1264f').innerHTML = '';
				var prefix = '&#109;a' + 'i&#108;' + '&#116;o';
				var path = 'hr' + 'ef' + '=';
				var addy89964e11d315f8df5c11a70c7ce1264f = '&#105;nf&#111;' + '&#64;';
				addy89964e11d315f8df5c11a70c7ce1264f = addy89964e11d315f8df5c11a70c7ce1264f + 'scbr&#101;&#97;k&#101;rs' + '&#46;' + 'd&#101;';
				var addy_text89964e11d315f8df5c11a70c7ce1264f = '&#105;nf&#111;' + '&#64;' + 'scbr&#101;&#97;k&#101;rs' + '&#46;' + 'd&#101;';document.getElementById('cloak89964e11d315f8df5c11a70c7ce1264f').innerHTML += '<a ' + path + '\'' + prefix + ':' + addy89964e11d315f8df5c11a70c7ce1264f + '\'>'+addy_text89964e11d315f8df5c11a70c7ce1264f+'';
		
DTSTAMP:20260423T170940Z
DTSTART:20250101T170000Z
DTEND:20250101T200000Z
SEQUENCE:0
TRANSP:OPAQUE
END:VEVENT
END:VCALENDAR