BEGIN:VCALENDAR
VERSION:2.0
PRODID:-//jEvents 2.0 for Joomla//EN
CALSCALE:GREGORIAN
METHOD:PUBLISH
BEGIN:VEVENT
UID:0bd0cc232dc83e8cd0d87f7858c9c902
CATEGORIES:Training
CREATED:20211010T112213
SUMMARY:Schnuppertraining für Interessierte
DESCRIPTION:
CONTACT:Diese E-Mail-Adresse ist vor Spambots geschützt! Zur Anzeige muss JavaScript eingeschaltet sein!
				document.getElementById('cloak764f3968929e4cd3f12159dee2054c1b').innerHTML = '';
				var prefix = '&#109;a' + 'i&#108;' + '&#116;o';
				var path = 'hr' + 'ef' + '=';
				var addy764f3968929e4cd3f12159dee2054c1b = '&#105;nf&#111;' + '&#64;';
				addy764f3968929e4cd3f12159dee2054c1b = addy764f3968929e4cd3f12159dee2054c1b + 'scbr&#101;&#97;k&#101;rs' + '&#46;' + 'd&#101;';
				var addy_text764f3968929e4cd3f12159dee2054c1b = '&#105;nf&#111;' + '&#64;' + 'scbr&#101;&#97;k&#101;rs' + '&#46;' + 'd&#101;';document.getElementById('cloak764f3968929e4cd3f12159dee2054c1b').innerHTML += '<a ' + path + '\'' + prefix + ':' + addy764f3968929e4cd3f12159dee2054c1b + '\'>'+addy_text764f3968929e4cd3f12159dee2054c1b+'';
		
DTSTAMP:20260423T170935Z
DTSTART:20241204T170000Z
DTEND:20241204T200000Z
SEQUENCE:0
TRANSP:OPAQUE
END:VEVENT
END:VCALENDAR