BEGIN:VCALENDAR
VERSION:2.0
PRODID:-//jEvents 2.0 for Joomla//EN
CALSCALE:GREGORIAN
METHOD:PUBLISH
BEGIN:VEVENT
UID:0bd0cc232dc83e8cd0d87f7858c9c902
CATEGORIES:Training
CREATED:20211010T112213
SUMMARY:Schnuppertraining für Interessierte
DESCRIPTION:
CONTACT:Diese E-Mail-Adresse ist vor Spambots geschützt! Zur Anzeige muss JavaScript eingeschaltet sein!
				document.getElementById('cloakd1b56a070aea182c38859cdb14f5507a').innerHTML = '';
				var prefix = '&#109;a' + 'i&#108;' + '&#116;o';
				var path = 'hr' + 'ef' + '=';
				var addyd1b56a070aea182c38859cdb14f5507a = '&#105;nf&#111;' + '&#64;';
				addyd1b56a070aea182c38859cdb14f5507a = addyd1b56a070aea182c38859cdb14f5507a + 'scbr&#101;&#97;k&#101;rs' + '&#46;' + 'd&#101;';
				var addy_textd1b56a070aea182c38859cdb14f5507a = '&#105;nf&#111;' + '&#64;' + 'scbr&#101;&#97;k&#101;rs' + '&#46;' + 'd&#101;';document.getElementById('cloakd1b56a070aea182c38859cdb14f5507a').innerHTML += '<a ' + path + '\'' + prefix + ':' + addyd1b56a070aea182c38859cdb14f5507a + '\'>'+addy_textd1b56a070aea182c38859cdb14f5507a+'';
		
DTSTAMP:20260423T224222Z
DTSTART:20240207T170000Z
DTEND:20240207T200000Z
SEQUENCE:0
TRANSP:OPAQUE
END:VEVENT
END:VCALENDAR