BEGIN:VCALENDAR
VERSION:2.0
PRODID:-//jEvents 2.0 for Joomla//EN
CALSCALE:GREGORIAN
METHOD:PUBLISH
BEGIN:VEVENT
UID:0bd0cc232dc83e8cd0d87f7858c9c902
CATEGORIES:Training
CREATED:20211010T112213
SUMMARY:Schnuppertraining für Interessierte
DESCRIPTION:
CONTACT:Diese E-Mail-Adresse ist vor Spambots geschützt! Zur Anzeige muss JavaScript eingeschaltet sein!
				document.getElementById('cloak0316d68ef74f7a036cac61b2e4d8ae56').innerHTML = '';
				var prefix = '&#109;a' + 'i&#108;' + '&#116;o';
				var path = 'hr' + 'ef' + '=';
				var addy0316d68ef74f7a036cac61b2e4d8ae56 = '&#105;nf&#111;' + '&#64;';
				addy0316d68ef74f7a036cac61b2e4d8ae56 = addy0316d68ef74f7a036cac61b2e4d8ae56 + 'scbr&#101;&#97;k&#101;rs' + '&#46;' + 'd&#101;';
				var addy_text0316d68ef74f7a036cac61b2e4d8ae56 = '&#105;nf&#111;' + '&#64;' + 'scbr&#101;&#97;k&#101;rs' + '&#46;' + 'd&#101;';document.getElementById('cloak0316d68ef74f7a036cac61b2e4d8ae56').innerHTML += '<a ' + path + '\'' + prefix + ':' + addy0316d68ef74f7a036cac61b2e4d8ae56 + '\'>'+addy_text0316d68ef74f7a036cac61b2e4d8ae56+'';
		
DTSTAMP:20260423T152507Z
DTSTART:20240103T170000Z
DTEND:20240103T200000Z
SEQUENCE:0
TRANSP:OPAQUE
END:VEVENT
END:VCALENDAR