BEGIN:VCALENDAR
VERSION:2.0
PRODID:-//jEvents 2.0 for Joomla//EN
CALSCALE:GREGORIAN
METHOD:PUBLISH
BEGIN:VEVENT
UID:0bd0cc232dc83e8cd0d87f7858c9c902
CATEGORIES:Training
CREATED:20211010T112213
SUMMARY:Schnuppertraining für Interessierte
DESCRIPTION:
CONTACT:Diese E-Mail-Adresse ist vor Spambots geschützt! Zur Anzeige muss JavaScript eingeschaltet sein!
				document.getElementById('cloak77bf0e2de708c50eb1606fd0a9efe802').innerHTML = '';
				var prefix = '&#109;a' + 'i&#108;' + '&#116;o';
				var path = 'hr' + 'ef' + '=';
				var addy77bf0e2de708c50eb1606fd0a9efe802 = '&#105;nf&#111;' + '&#64;';
				addy77bf0e2de708c50eb1606fd0a9efe802 = addy77bf0e2de708c50eb1606fd0a9efe802 + 'scbr&#101;&#97;k&#101;rs' + '&#46;' + 'd&#101;';
				var addy_text77bf0e2de708c50eb1606fd0a9efe802 = '&#105;nf&#111;' + '&#64;' + 'scbr&#101;&#97;k&#101;rs' + '&#46;' + 'd&#101;';document.getElementById('cloak77bf0e2de708c50eb1606fd0a9efe802').innerHTML += '<a ' + path + '\'' + prefix + ':' + addy77bf0e2de708c50eb1606fd0a9efe802 + '\'>'+addy_text77bf0e2de708c50eb1606fd0a9efe802+'';
		
DTSTAMP:20260423T170531Z
DTSTART:20231220T170000Z
DTEND:20231220T200000Z
SEQUENCE:0
TRANSP:OPAQUE
END:VEVENT
END:VCALENDAR