BEGIN:VCALENDAR
VERSION:2.0
PRODID:-//jEvents 2.0 for Joomla//EN
CALSCALE:GREGORIAN
METHOD:PUBLISH
BEGIN:VEVENT
UID:0bd0cc232dc83e8cd0d87f7858c9c902
CATEGORIES:Training
CREATED:20211010T112213
SUMMARY:Schnuppertraining für Interessierte
DESCRIPTION:
CONTACT:Diese E-Mail-Adresse ist vor Spambots geschützt! Zur Anzeige muss JavaScript eingeschaltet sein!
				document.getElementById('cloakb27a8acc014c070fab0a56d0c81815df').innerHTML = '';
				var prefix = '&#109;a' + 'i&#108;' + '&#116;o';
				var path = 'hr' + 'ef' + '=';
				var addyb27a8acc014c070fab0a56d0c81815df = '&#105;nf&#111;' + '&#64;';
				addyb27a8acc014c070fab0a56d0c81815df = addyb27a8acc014c070fab0a56d0c81815df + 'scbr&#101;&#97;k&#101;rs' + '&#46;' + 'd&#101;';
				var addy_textb27a8acc014c070fab0a56d0c81815df = '&#105;nf&#111;' + '&#64;' + 'scbr&#101;&#97;k&#101;rs' + '&#46;' + 'd&#101;';document.getElementById('cloakb27a8acc014c070fab0a56d0c81815df').innerHTML += '<a ' + path + '\'' + prefix + ':' + addyb27a8acc014c070fab0a56d0c81815df + '\'>'+addy_textb27a8acc014c070fab0a56d0c81815df+'';
		
DTSTAMP:20260425T160817Z
DTSTART:20230405T160000Z
DTEND:20230405T190000Z
SEQUENCE:0
TRANSP:OPAQUE
END:VEVENT
END:VCALENDAR