BEGIN:VCALENDAR
VERSION:2.0
PRODID:-//jEvents 2.0 for Joomla//EN
CALSCALE:GREGORIAN
METHOD:PUBLISH
BEGIN:VEVENT
UID:0bd0cc232dc83e8cd0d87f7858c9c902
CATEGORIES:Training
CREATED:20211010T112213
SUMMARY:Schnuppertraining für Interessierte
DESCRIPTION:
CONTACT:Diese E-Mail-Adresse ist vor Spambots geschützt! Zur Anzeige muss JavaScript eingeschaltet sein!
				document.getElementById('cloakf705351fa3e75d6507689cac8a7f7cb6').innerHTML = '';
				var prefix = '&#109;a' + 'i&#108;' + '&#116;o';
				var path = 'hr' + 'ef' + '=';
				var addyf705351fa3e75d6507689cac8a7f7cb6 = '&#105;nf&#111;' + '&#64;';
				addyf705351fa3e75d6507689cac8a7f7cb6 = addyf705351fa3e75d6507689cac8a7f7cb6 + 'scbr&#101;&#97;k&#101;rs' + '&#46;' + 'd&#101;';
				var addy_textf705351fa3e75d6507689cac8a7f7cb6 = '&#105;nf&#111;' + '&#64;' + 'scbr&#101;&#97;k&#101;rs' + '&#46;' + 'd&#101;';document.getElementById('cloakf705351fa3e75d6507689cac8a7f7cb6').innerHTML += '<a ' + path + '\'' + prefix + ':' + addyf705351fa3e75d6507689cac8a7f7cb6 + '\'>'+addy_textf705351fa3e75d6507689cac8a7f7cb6+'';
		
DTSTAMP:20260425T155815Z
DTSTART:20230301T170000Z
DTEND:20230301T200000Z
SEQUENCE:0
TRANSP:OPAQUE
END:VEVENT
END:VCALENDAR