BEGIN:VCALENDAR
VERSION:2.0
PRODID:-//jEvents 2.0 for Joomla//EN
CALSCALE:GREGORIAN
METHOD:PUBLISH
BEGIN:VEVENT
UID:0bd0cc232dc83e8cd0d87f7858c9c902
CATEGORIES:Training
CREATED:20211010T112213
SUMMARY:Schnuppertraining für Interessierte
DESCRIPTION:
CONTACT:Diese E-Mail-Adresse ist vor Spambots geschützt! Zur Anzeige muss JavaScript eingeschaltet sein!
				document.getElementById('cloak0acdddd489cde65482ac8f57bf1d1895').innerHTML = '';
				var prefix = '&#109;a' + 'i&#108;' + '&#116;o';
				var path = 'hr' + 'ef' + '=';
				var addy0acdddd489cde65482ac8f57bf1d1895 = '&#105;nf&#111;' + '&#64;';
				addy0acdddd489cde65482ac8f57bf1d1895 = addy0acdddd489cde65482ac8f57bf1d1895 + 'scbr&#101;&#97;k&#101;rs' + '&#46;' + 'd&#101;';
				var addy_text0acdddd489cde65482ac8f57bf1d1895 = '&#105;nf&#111;' + '&#64;' + 'scbr&#101;&#97;k&#101;rs' + '&#46;' + 'd&#101;';document.getElementById('cloak0acdddd489cde65482ac8f57bf1d1895').innerHTML += '<a ' + path + '\'' + prefix + ':' + addy0acdddd489cde65482ac8f57bf1d1895 + '\'>'+addy_text0acdddd489cde65482ac8f57bf1d1895+'';
		
DTSTAMP:20260425T122653Z
DTSTART:20230215T170000Z
DTEND:20230215T200000Z
SEQUENCE:0
TRANSP:OPAQUE
END:VEVENT
END:VCALENDAR