BEGIN:VCALENDAR
VERSION:2.0
PRODID:-//jEvents 2.0 for Joomla//EN
CALSCALE:GREGORIAN
METHOD:PUBLISH
BEGIN:VEVENT
UID:0bd0cc232dc83e8cd0d87f7858c9c902
CATEGORIES:Training
CREATED:20211010T112213
SUMMARY:Schnuppertraining für Interessierte
DESCRIPTION:
CONTACT:Diese E-Mail-Adresse ist vor Spambots geschützt! Zur Anzeige muss JavaScript eingeschaltet sein!
				document.getElementById('cloak146307c9552c3720b31d4801640f1383').innerHTML = '';
				var prefix = '&#109;a' + 'i&#108;' + '&#116;o';
				var path = 'hr' + 'ef' + '=';
				var addy146307c9552c3720b31d4801640f1383 = '&#105;nf&#111;' + '&#64;';
				addy146307c9552c3720b31d4801640f1383 = addy146307c9552c3720b31d4801640f1383 + 'scbr&#101;&#97;k&#101;rs' + '&#46;' + 'd&#101;';
				var addy_text146307c9552c3720b31d4801640f1383 = '&#105;nf&#111;' + '&#64;' + 'scbr&#101;&#97;k&#101;rs' + '&#46;' + 'd&#101;';document.getElementById('cloak146307c9552c3720b31d4801640f1383').innerHTML += '<a ' + path + '\'' + prefix + ':' + addy146307c9552c3720b31d4801640f1383 + '\'>'+addy_text146307c9552c3720b31d4801640f1383+'';
		
DTSTAMP:20260423T232433Z
DTSTART:20230118T170000Z
DTEND:20230118T200000Z
SEQUENCE:0
TRANSP:OPAQUE
END:VEVENT
END:VCALENDAR