BEGIN:VCALENDAR
VERSION:2.0
PRODID:-//jEvents 2.0 for Joomla//EN
CALSCALE:GREGORIAN
METHOD:PUBLISH
BEGIN:VEVENT
UID:a79b5d6af3c14abd072aa0d3621f9583
CATEGORIES:Friday Night Series
CREATED:19700101T010000
SUMMARY:Fridays Night Ü40
DESCRIPTION:
DTSTAMP:20260423T103239Z
DTSTART:20211119T180000Z
SEQUENCE:0
RRULE:FREQ=MONTHLY;UNTIL=20250701T000000Z;INTERVAL=1;BYDAY=+3FR
TRANSP:OPAQUE
END:VEVENT
END:VCALENDAR